BEGIN:VCALENDAR
VERSION:2.0
PRODID:Imitheme.com
BEGIN:VEVENT
UID:20260421T162543-916891924
DTSTAMP:20260421T162543
DTSTART:20260421T162543Z
DTEND:20260421T162543Z
SUMMARY:Noapte de rugăciune la Cluj-Napoca
LOCATION:
DESCRIPTION: <h4 style="text-align: center;"><strong>Radio Maria și Maria Tv</strong> vor transmite în direct întregul program - <strong>Vineri, 29.09.2023</strong> începând <strong>ora 18.00</strong><strong>.</strong></h4>
END:VEVENT
END:VCALENDAR
