BEGIN:VCALENDAR
VERSION:2.0
PRODID:Imitheme.com
BEGIN:VEVENT
UID:20260424T110528-404082029
DTSTAMP:20260424T110528
DTSTART:20260424T110528Z
DTEND:20260424T110528Z
SUMMARY:Baia Mare: Hramul Bisericii greco-catolice „Sf. Anton”
LOCATION:
DESCRIPTION: Sâmbătă, 13 iunie 2020, de la ora 10:00, Radio Maria va transmite de la Biserica greco-catolică „Sf. Anton” din Baia Mare, Sfânta Liturghie a hramului.
END:VEVENT
END:VCALENDAR
