BEGIN:VCALENDAR
VERSION:2.0
PRODID:Imitheme.com
BEGIN:VEVENT
UID:20260424T093043-1628961262
DTSTAMP:20260424T093043
DTSTART:20260424T093043Z
DTEND:20260424T093043Z
SUMMARY:Dănești: Sărbătoarea Rusaliilor la Parohia „Preasfânta Inimă a lui Isus”
LOCATION:
DESCRIPTION: Radio Maria va transmite duminică, 7 iunie 2020, de la ora 9.00, Sfânta Liturghie greco-catolică în sărbătoarea Rusaliilor, în direct de la Biserica „Preasfânta Inimă a lui Isus” din Dănești, Maramureş.

END:VEVENT
END:VCALENDAR
