BEGIN:VCALENDAR
VERSION:2.0
PRODID:Imitheme.com
BEGIN:VEVENT
UID:20260420T090619-1569562872
DTSTAMP:20260420T090619
DTSTART:20260420T090619Z
DTEND:20260420T090619Z
SUMMARY:Iași: Celebrarea cu recviem pentru sufletul regelui Ferdinand I și al reginei Maria
LOCATION:
DESCRIPTION: Radio Maria transmite sâmbătă, 30 noiembrie 2019, de la ora 11:00, celebrarea cu recviem pentru sufletul regelui Ferdinand I și al reginei Maria, în direct de la Catedrala "Sfânta Fecioară Maria, Regină", Iași.
END:VEVENT
END:VCALENDAR
